BEGIN:VCALENDAR
VERSION:2.0
PRODID:-//eventon.com NONSGML v1.0//EN
BEGIN:VEVENT
UID:69e60052390a8
DTSTAMP:20260420T123042
DTSTART:20231012T070000Z
DTEND:20231012T150000Z
TZID:Europe/Berlin
LOCATION:Gruppo Abele corso Trapani 91/b
SUMMARY:Louise Mottier al Gruppo Abele | Torino
DESCRIPTION: Giovedì 12 ottobre alle 9.00 Louise Mottier presenta Come si dice dream? nel Corso a catalogo dell&#8217;università della Strada del Gruppo Abele\,  Torino. L&#8217;appuntamento è in corso Trapani 91/b.
URL:https://edizionigruppoabele.it/events/louise-mottier-al-gruppo-abele-torino/
END:VEVENT
END:VCALENDAR