BEGIN:VCALENDAR
VERSION:2.0
PRODID:-//eventon.com NONSGML v1.0//EN
BEGIN:VEVENT
UID:69e5ea1851362
DTSTAMP:20260420T105552
DTSTART:20231013T163000Z
DTEND:20231013T173000Z
TZID:Europe/Berlin
LOCATION:Binaria - Centro Commensale Via Sestriere 34\,  Torino
SUMMARY:Louise Mottier a Binaria | Torino
DESCRIPTION: Venerdì 13 ottobre alle ore 18\, 30 Louise Mottier terrà un incontro a partire dal libro Come si dice dream? ospite del progetto Present4Future del Gruppo Abele di Torino. L&#8217;appuntamento è in via Sestriere 34.
URL:https://edizionigruppoabele.it/events/louise-mottier-al-centro-commensale-binaria-torino/
END:VEVENT
END:VCALENDAR