BEGIN:VCALENDAR
VERSION:2.0
PRODID:-//eventon.com NONSGML v1.0//EN
BEGIN:VEVENT
UID:69e6003e32ef3
DTSTAMP:20260420T123022
DTSTART:20231215T173000Z
DTEND:20231215T183000Z
TZID:Europe/Berlin
LOCATION:
SUMMARY:Louise Mottier a Binaria | Torino
DESCRIPTION: Venerdì 15 Dicembre alle 18\, 30 Louise Mottier presenta Come si dice dream su iniziativa dell&#8217;associazione Refugees Welcome Italia e in collaborazione con il Frantz Fanon a Torino. L&#8217;appuntamento è in via Sestriere 34.
URL:https://edizionigruppoabele.it/events/louise-mottier-a-binaria-torino/
END:VEVENT
END:VCALENDAR