BEGIN:VCALENDAR
VERSION:2.0
PRODID:-//eventon.com NONSGML v1.0//EN
BEGIN:VEVENT
UID:69e6003d70883
DTSTAMP:20260420T123021
DTSTART:20240421T140000Z
DTEND:20240421T150000Z
TZID:Europe/Berlin
LOCATION:Binaria Rivalta via Roma 9\,  Rivalta di Torino
SUMMARY:Livio Pepino e Marco Revelli presentano All'armi son fascisti! presso Binaria di Rivalta (TO)
DESCRIPTION: Domenica 21 Aprile alle ore 16\, 00 Livio Pepino e Marco Revelli presentano All&#8217;armi son fascisti! presso Binaria di Rivalta (TO) nell&#8217;ambito della Giornata dedicata alle celebrazioni sulla Resistenza. L&#8217;appuntamento è in via Roma 9.
URL:https://edizionigruppoabele.it/events/livio-pepino-e-marco-revelli-presentano-allarmi-son-fascisti-presso-binaria-di-rivalta-to/
END:VEVENT
END:VCALENDAR