BEGIN:VCALENDAR
VERSION:2.0
PRODID:-//eventon.com NONSGML v1.0//EN
BEGIN:VEVENT
UID:69e5ea227acbf
DTSTAMP:20260420T105602
DTSTART:20240425T123000Z
DTEND:20240425T143000Z
TZID:Europe/Berlin
LOCATION:Teatro della Borgata Paraloup Borgata Paraloup\,  12010 Rittana CN
SUMMARY:Ciau Gastone! Una vita tra fantasia e rigore | Borgata Paraloup (Cuneo)
DESCRIPTION: Giovedì 25 aprile\,  alle ore 14.30 presso il Teatro della Borgata Paraloup (Rittana – CN) &#8220;Ciau Gastone! Una vita tra fantasia e rigore. Dall’infanzia agli anni giovanili alla maturità\,  frammenti dai suoi diari&#8221;. Letture di Valeria Dini e accompagnamento musicale di Carlo Trincianti (chitarra).
URL:https://edizionigruppoabele.it/events/ciau-gastone-una-vita-tra-fantasia-e-rigore-borgata-paraloup-cuneo/
END:VEVENT
END:VCALENDAR