BEGIN:VCALENDAR
VERSION:2.0
PRODID:-//eventon.com NONSGML v1.0//EN
BEGIN:VEVENT
UID:69e5ea48a989c
DTSTAMP:20260420T105640
DTSTART:20240426T153000Z
DTEND:20240426T163000Z
TZID:Europe/Berlin
LOCATION:Teatro della Borgata Paraloup Borgata Paraloup\,  12010 Rittana CN
SUMMARY:Livio Pepino e Marco Revelli alla Borgata Paraloup | Rittana (CN)
DESCRIPTION: Venerdì 26 Aprile 2024 alle ore 17\, 30 Livio Pepino e Marco Revelli presentano All&#8217;armi son fascisti nella Borgata Paraloup a Rittana (CN). L&#8217;appuntamento è al Teatro della borgata.
URL:https://edizionigruppoabele.it/events/livio-pepino-e-marco-revelli-alla-borgata-paraloup-rittana-cn/
END:VEVENT
END:VCALENDAR