BEGIN:VCALENDAR
VERSION:2.0
PRODID:-//eventon.com NONSGML v1.0//EN
BEGIN:VEVENT
UID:69e5ea1aa1a54
DTSTAMP:20260420T105554
DTSTART:20240423T190000Z
DTEND:20240423T200000Z
TZID:Europe/Berlin
LOCATION:Sant&#039;Ambrogio (TO) 
SUMMARY:Livio Pepino al Valsusa Film Festival | Sant'Ambrogio (TO)
DESCRIPTION: Marted&#8217; 23 Aprile 2024 alle ore 21\, 00 Livio Pepino presenta All&#8217;armi son fascisti durante il Valsusa Film Festival a Sant&#8217;Ambrogio (TO).
URL:https://edizionigruppoabele.it/events/livio-pepino-al-valsusa-film-festival-santambrogio-to/
END:VEVENT
END:VCALENDAR